BEGIN:VCALENDAR
VERSION:2.0
PRODID:-//wp-events-plugin.com//7.2.3.1//EN
TZID:Europe/Berlin
X-WR-TIMEZONE:Europe/Berlin
BEGIN:VEVENT
UID:0-2@spd-teltow.de
DTSTART;TZID=Europe/Berlin:20260501T100000
DTEND;TZID=Europe/Berlin:20260501T180000
DTSTAMP:20260420T115643Z
URL:https://spd-teltow.de/events/fest-fuer-demokratie-vielfalt-tks/
SUMMARY:Fest für Demokratie &amp\; Vielfalt TKS
DESCRIPTION:Am 01.05.2026 beginnt um 10:00 Uhr ein Fest\, das - anders als 
 bisherige 1.-Mai-Veranstaltungen - ein vielfältiges Programm für alle Ei
 nwohnerinnen und Einwohner der Region Teltow\, Kleinmachnow und Stahnsdorf
  bietet.\n\nOrt: August-Mattausch-Park in Teltow.\n\nHier kann der Flyer z
 um Fest heruntergeladen werden.
END:VEVENT
BEGIN:VTIMEZONE
TZID:Europe/Berlin
X-LIC-LOCATION:Europe/Berlin
BEGIN:DAYLIGHT
DTSTART:20260329T030000
TZOFFSETFROM:+0100
TZOFFSETTO:+0200
TZNAME:CEST
END:DAYLIGHT
END:VTIMEZONE
END:VCALENDAR